BEGIN:VCALENDAR
VERSION:2.0
METHOD:PUBLISH
BEGIN:VEVENT
DTSTART:20210227T151500
DTEND:20210227T154500
LOCATION:3/36 Anderson Street Alexandria, NSW 2015
TRANSP: OPAQUE
SEQUENCE:0
UID:
DTSTAMP:20210228T072827Z
SUMMARY:Home Open - Oversized 93sqm apartment in a boutique warehouse conversion
DESCRIPTION:Holding a private ground floor setting in a stunning boutique warehouse conversion, this oversized one bedroom apartment is your ideal lifestyle pad in the heart of this leafy inner city suburb. Alexandria Park is just two minutes' stroll away, and you'll be within easy walking distance of trendy cafes, dining options and the forthcoming Waterloo Metro.

&#x2022;	Oversized contemporary layout features 93sqm on title
&#x2022;	Includes a private street entrance + a skylit entry foyer
&#x2022;	Generous open plan layout extends to a front courtyard
&#x2022;	Stone kitchen with gas oven/stove + Bosch dishwasher
&#x2022;	Bedroom features a large walk-in robe + atrium courtyard
&#x2022;	Spacious bathroom, internal laundry facilities + a/c
&#x2022;	Rinnai gas hot water, timber flooring + high ceilings
&#x2022;	Automated lock-up garage with internal access to building
&#x2022;	Anderson Street will soon be a whisper quiet cul-de-sac
PRIORITY:1
CLASS:PUBLIC
BEGIN:VALARM
TRIGGER:-PT10080M
ACTION:DISPLAY
DESCRIPTION:Reminder
END:VALARM
END:VEVENT
END:VCALENDAR
