BEGIN:VCALENDAR
VERSION:2.0
METHOD:PUBLISH
BEGIN:VEVENT
DTSTART:20210223T180000
DTEND:20210223T183000
LOCATION:1B Copeland Street Alexandria, NSW 2015
TRANSP: OPAQUE
SEQUENCE:0
UID:
DTSTAMP:20210228T072850Z
SUMMARY:Home Open - Stunning designer townhouse opposite Erskineville Oval
DESCRIPTION:Overlooking the expansive leafy grounds of Erskineville Oval, this boutique townhouse is designed for low maintenance living in one of Sydney's most sought-after central addresses. With the park at your doorstep, it's only 650m to Erskineville Village, and just a short stroll to the popular bars and restaurants of both Alexandria and Redfern.

&#x2022;	Soaring raked ceilings and plenty of filtered natural light
&#x2022;	Italian marble benches, Smeg gas fittings + dual dishwashers
&#x2022;	Home office/nursery with beautiful views across the oval
&#x2022;	2 generous bedrooms + 2 sleek Travertine bathrooms
&#x2022;	Bamboo flooring, air conditioning + plantation shutters
&#x2022;	Pet friendly complex of only 4 townhouses
&#x2022;	Stroll to Woolworths, Bread &amp; Circus and Bitton Caf&#xE9;
&#x2022;	Walk to Redfern and Erskineville Stations + city buses
PRIORITY:1
CLASS:PUBLIC
BEGIN:VALARM
TRIGGER:-PT10080M
ACTION:DISPLAY
DESCRIPTION:Reminder
END:VALARM
END:VEVENT
END:VCALENDAR
