BEGIN:VCALENDAR
VERSION:2.0
METHOD:PUBLISH
BEGIN:VEVENT
DTSTART:20210313T100000
DTEND:20210313T103000
LOCATION:3 Copeland Street Alexandria, NSW 2015
TRANSP: OPAQUE
SEQUENCE:0
UID:
DTSTAMP:20210228T072619Z
SUMMARY:Home Open - Freestanding parkside home with a stunning northerly aspect
DESCRIPTION:Beyond its impeccable traditional fa&#xE7;ade, this beautifully updated freestanding home is set across a generous single level, embracing exquisite natural light with a stunning northerly aspect. Occupying a 139sqm parcel opposite Erskineville Oval, it's within footsteps of supermarkets, trains and some of Sydney's best cafes, restaurants and specialty stores.

&#xB7;	Side/rear pedestrian access, security gates + privacy fences
&#xB7;	Stylish open plan living with timber floors + high ceilings
&#xB7;	Bi-fold doors create an effortless indoor/outdoor flow
&#xB7;	Newly completed wraparound deck bathed in northerly light
&#xB7;	Modern gas kitchen with Bosch dishwasher + ample storage
&#xB7;	Reverse cycle split system a/c in both bedrooms + living
&#xB7;	Generous master bedroom features built-in wardrobes
&#xB7;	Renovated bathroom, stone vanities + int. laundry fittings
&#xB7;	Includes a large attic storage space above second bedroom
&#xB7;	Plantation shutters, skylights + gorgeous transom windows
&#xB7;	Walk to Erskineville Village and Station + Alexandria cafes
PRIORITY:1
CLASS:PUBLIC
BEGIN:VALARM
TRIGGER:-PT10080M
ACTION:DISPLAY
DESCRIPTION:Reminder
END:VALARM
END:VEVENT
END:VCALENDAR
