BEGIN:VCALENDAR
VERSION:2.0
METHOD:PUBLISH
BEGIN:VEVENT
DTSTART:20210313T141500
DTEND:20210313T144500
LOCATION:20 Middle Street Marrickville, NSW 2204
TRANSP: OPAQUE
SEQUENCE:0
UID:
DTSTAMP:20210228T072533Z
SUMMARY:Home Open - Renovated freestanding home in North Marrickville pocket
DESCRIPTION:This beautifully renovated freestanding cottage presents the perfect layout for effortless indoor/outdoor living, with wide 5.8 metre frontage, off street parking and plenty of accommodation for growing families. Tucked away in a prized North Marrickville pocket, it's footsteps to sought-after schools, Stanmore Station and the organic markets at Addison Road.

&#xB7;	Bright and generous interiors make an immediate impression
&#xB7;	Single level layout with voluminous open plan living + dining
&#xB7;	Bi-fold doors flow to a sunlit entertainers' deck and level lawn
&#xB7;	Spacious kitchen with 5-burner gas stove + dual dishwasher
&#xB7;	3 large bedrooms with BIR and fans + home office/4th bedroom
&#xB7;	Main designer bathroom with separate bath + double shower
&#xB7;	Bathe in comfort with underfloor heating + heated towel rails
&#xB7;	Double glazed windows, air conditioning + 2500L water tank
&#xB7;	Surrounded by great local cafes, eateries and parklands
PRIORITY:1
CLASS:PUBLIC
BEGIN:VALARM
TRIGGER:-PT10080M
ACTION:DISPLAY
DESCRIPTION:Reminder
END:VALARM
END:VEVENT
END:VCALENDAR
