BEGIN:VCALENDAR
VERSION:2.0
METHOD:PUBLISH
BEGIN:VEVENT
DTSTART:20210309T170000
DTEND:20210309T173000
LOCATION:62 Alexander Street Alexandria, NSW 2015
TRANSP: OPAQUE
SEQUENCE:0
UID:
DTSTAMP:20210228T072656Z
SUMMARY:Home Open - Light filled terrace in a prized Golden Triangle address
DESCRIPTION:Tucked away in Alexandria's prized golden triangle, you'll love the sense of privacy and beautiful natural light of this spacious terrace. From this tranquil enclave, you'll be surrounded by surrounded by leafy parklands while being within an easy stroll of Eveleigh Markets, Erskineville Station, Bitton Caf&#xE9; and the revived South Eveleigh Precinct.

&#x2022;	Open plan lounge/dining area with polished timber floors
&#x2022;	Effortless flow to the east facing entertainers' courtyard
&#x2022;	Atrium style courtyard and skylights enhance natural light
&#x2022;	Gas kitchen features Smeg dishwasher + integrated storage
&#x2022;	Two bedrooms, master with ensuite and built-in robes
&#x2022;	Bathroom with Japanese style bathtub + atrium courtyard
&#x2022;	Attic storage space, gas heating outlet + security bars
&#x2022;	Scope to make it your own with stylish cosmetic updates
PRIORITY:1
CLASS:PUBLIC
BEGIN:VALARM
TRIGGER:-PT10080M
ACTION:DISPLAY
DESCRIPTION:Reminder
END:VALARM
END:VEVENT
END:VCALENDAR
