BEGIN:VCALENDAR
VERSION:2.0
METHOD:PUBLISH
BEGIN:VEVENT
DTSTART:20210302T160000
DTEND:20210302T163000
LOCATION:33 Gerard Street Alexandria, NSW 2015
TRANSP: OPAQUE
SEQUENCE:0
UID:
DTSTAMP:20210228T072738Z
SUMMARY:Home Open - Truly exciting potential on a blue-ribbon parkside street
DESCRIPTION:Displaying approximately 8 metres of frontage, this charming freestanding residence features spacious interiors and deep sun dappled gardens, providing enormous scope to add value with personalised modern touches. It presents an exciting opportunity in one of Alexandria's most sought-after addresses, with Meet Gerard Caf&#xE9; and leafy Alexandria Park at either end of the street.

&#xB7;	Well scaled 234sqm block including off street parking
&#xB7;	Distinct lounge and dining rooms with soaring ceilings
&#xB7;	Elegant exposed brickwork, skylight and timber beam
&#xB7;	Bright dine-in kitchen flows to the tranquil rear gardens
&#xB7;	Three bedrooms, main features a balcony and built-in robes
&#xB7;	Solid double brick build, gas outlets + large full bathroom
&#xB7;	Walking distance to soon-to-be-completed Waterloo Metro
&#xB7;	Create your ideal family home on a quiet tree-lined street
PRIORITY:1
CLASS:PUBLIC
BEGIN:VALARM
TRIGGER:-PT10080M
ACTION:DISPLAY
DESCRIPTION:Reminder
END:VALARM
END:VEVENT
END:VCALENDAR
